BEGIN:VCALENDAR
VERSION:2.0
PRODID:-//ZContent.net//ZapCalLib 1.0//EN
CALSCALE:GREGORIAN
METHOD:PUBLISH
BEGIN:VEVENT
SUMMARY:Die Türkei und ihre religiösen Minderheiten | Werkstattgespräch
DTSTART:20070222T163000
DTEND:20070222T210000
UID:2026-04-26-04-41-19-0-@calendar.boell.de
DTSTAMP:20260426T024119
DESCRIPTION:Stiftung Leben & Umwelt / Heinrich-Böll-Stiftung Niedersachsen
END:VEVENT
END:VCALENDAR
