BEGIN:VCALENDAR
VERSION:2.0
PRODID:-//ZContent.net//ZapCalLib 1.0//EN
CALSCALE:GREGORIAN
METHOD:PUBLISH
BEGIN:VEVENT
SUMMARY:Um des lieben Friedens willen... oder kann ich Grenzen setzen? | Wo
 rkshop für Mütter III | Sozialpolitische Reihe des Frauenzentrums Laatze
 n
DTSTART:20071115T190000
DTEND:20071115T210000
UID:2026-04-25-13-26-40-0-@calendar.boell.de
DTSTAMP:20260425T112640
DESCRIPTION:
END:VEVENT
END:VCALENDAR
