BEGIN:VCALENDAR
VERSION:2.0
PRODID:-//ZContent.net//ZapCalLib 1.0//EN
CALSCALE:GREGORIAN
METHOD:PUBLISH
BEGIN:VEVENT
SUMMARY:Um des lieben Friedens willen... oder kann ich Grenzen setzen? | Wo
 rkshop für Mütter IV | Sozialpolitische Reihe des Frauenzentrums Laatzen
DTSTART:20071122T190000
DTEND:20071122T210000
UID:2026-04-26-04-41-22-0-@calendar.boell.de
DTSTAMP:20260426T024122
DESCRIPTION:
END:VEVENT
END:VCALENDAR
