BEGIN:VCALENDAR
VERSION:2.0
PRODID:-//ZContent.net//ZapCalLib 1.0//EN
CALSCALE:GREGORIAN
METHOD:PUBLISH
BEGIN:VEVENT
SUMMARY:Frauen – Gestalten - Weibs - Bilder | Exklusiv für Frauen | Frau
 en in Bewegung weltweit – gestern, heute, morgen
DTSTART:20070323T180000
DTEND:20070324T170000
UID:2026-04-25-19-57-08-0-@calendar.boell.de
DTSTAMP:20260425T175708
DESCRIPTION:
END:VEVENT
END:VCALENDAR
