BEGIN:VCALENDAR
VERSION:2.0
PRODID:-//ZContent.net//ZapCalLib 1.0//EN
CALSCALE:GREGORIAN
METHOD:PUBLISH
BEGIN:VEVENT
SUMMARY:Soziale Marktwirtschaft - Damals und Heute | Veranstaltung der Konr
 ad-Adenauer-Stiftung
DTSTART:20080228T180000
DTEND:20080228T210000
UID:2026-04-23-20-59-46-0-@calendar.boell.de
DTSTAMP:20260423T185946
DESCRIPTION:
END:VEVENT
END:VCALENDAR
