BEGIN:VCALENDAR
VERSION:2.0
PRODID:-//ZContent.net//ZapCalLib 1.0//EN
CALSCALE:GREGORIAN
METHOD:PUBLISH
BEGIN:VEVENT
SUMMARY:Jürgen Fuchs - Ein Literarischer Weg in die Opposition | Veranstal
 tung der Konrad-Adenauer-Stiftung
DTSTART:20080304T183000
DTEND:20080304T203000
UID:2026-04-23-14-32-50-0-@calendar.boell.de
DTSTAMP:20260423T123250
DESCRIPTION:
END:VEVENT
END:VCALENDAR
