BEGIN:VCALENDAR
VERSION:2.0
PRODID:-//ZContent.net//ZapCalLib 1.0//EN
CALSCALE:GREGORIAN
METHOD:PUBLISH
BEGIN:VEVENT
SUMMARY:Prignitzer Gespräche unter der Uhr: Provinz und Metropole - Gegens
 tände im Porträt | Ausstellungseröffnung im Uhrenturm Wittenberge
DTSTART:20080605T190000
DTEND:20080605T210000
UID:2026-04-26-04-41-21-0-@calendar.boell.de
DTSTAMP:20260426T024121
DESCRIPTION:Landesstiftung Brandenburg
END:VEVENT
END:VCALENDAR
