BEGIN:VCALENDAR
VERSION:2.0
PRODID:-//ZContent.net//ZapCalLib 1.0//EN
CALSCALE:GREGORIAN
METHOD:PUBLISH
BEGIN:VEVENT
SUMMARY:Wie betrifft uns der Klimawandel im Nordwesten? | Vortrag und Disku
 ssion
DTSTART:20080519T193000
DTEND:20080519T193000
UID:2026-04-26-04-41-09-0-@calendar.boell.de
DTSTAMP:20260426T024109
DESCRIPTION:Stiftung Leben & Umwelt / Heinrich-Böll-Stiftung Niedersachsen
END:VEVENT
END:VCALENDAR
