BEGIN:VCALENDAR
VERSION:2.0
PRODID:-//ZContent.net//ZapCalLib 1.0//EN
CALSCALE:GREGORIAN
METHOD:PUBLISH
BEGIN:VEVENT
SUMMARY:Frauenblicke auf den Bosporus | Eine Frauenreise nach Istanbul
DTSTART:20080913T000000
DTEND:20080920T000000
UID:2026-04-26-04-41-15-0-@calendar.boell.de
DTSTAMP:20260426T024115
DESCRIPTION:Externe Veranstaltung
END:VEVENT
END:VCALENDAR
