BEGIN:VCALENDAR
VERSION:2.0
PRODID:-//ZContent.net//ZapCalLib 1.0//EN
CALSCALE:GREGORIAN
METHOD:PUBLISH
BEGIN:VEVENT
SUMMARY:Das Zukunftsinvestitionsprogramm und die wirtschaftspolitischen Kom
 petenzen der Linken | Veranstaltung der Rosa-Luxemburg-Stiftung
DTSTART:20080609T180000
DTEND:20080609T200000
UID:2026-04-25-23-41-21-0-@calendar.boell.de
DTSTAMP:20260425T214121
DESCRIPTION:
END:VEVENT
END:VCALENDAR
