BEGIN:VCALENDAR
VERSION:2.0
PRODID:-//ZContent.net//ZapCalLib 1.0//EN
CALSCALE:GREGORIAN
METHOD:PUBLISH
BEGIN:VEVENT
SUMMARY:Jour Fixe: Hohe Agrarpreise | Hunger oder Chance für die ländlich
 e Bevölkerung
DTSTART:20080603T193000
DTEND:20080603T213000
UID:2026-04-25-23-41-17-0-@calendar.boell.de
DTSTAMP:20260425T214117
DESCRIPTION:Heinrich-Böll-Stiftung - Bundesstiftung Berlin
END:VEVENT
END:VCALENDAR
