BEGIN:VCALENDAR
VERSION:2.0
PRODID:-//ZContent.net//ZapCalLib 1.0//EN
CALSCALE:GREGORIAN
METHOD:PUBLISH
BEGIN:VEVENT
SUMMARY:Vernachlässigte Potenziale: Frauen im Innovationsprozess | Chancen
 gleichheit als Innovationsfaktor
DTSTART:20080609T130000
DTEND:20080610T163000
UID:2026-04-24-21-48-23-0-@calendar.boell.de
DTSTAMP:20260424T194823
DESCRIPTION:
END:VEVENT
END:VCALENDAR
