BEGIN:VCALENDAR
VERSION:2.0
PRODID:-//ZContent.net//ZapCalLib 1.0//EN
CALSCALE:GREGORIAN
METHOD:PUBLISH
BEGIN:VEVENT
SUMMARY:The Global Discourse on Gender and Sexuality: Where are we now? | C
 ES Berlin Dialogues
DTSTART:20080623T180000
DTEND:20080623T200000
UID:2026-04-25-13-26-48-0-@calendar.boell.de
DTSTAMP:20260425T112648
DESCRIPTION:Externe Veranstaltung
END:VEVENT
END:VCALENDAR
