BEGIN:VCALENDAR
VERSION:2.0
PRODID:-//ZContent.net//ZapCalLib 1.0//EN
CALSCALE:GREGORIAN
METHOD:PUBLISH
BEGIN:VEVENT
SUMMARY:Strategies and Practical Tools Challenging Homophobia and Gender-ba
 sed Discrimination in formal and non-formal Education for Teachers and Tra
 iners, Berlin | Europäischer Trainingskurs für pädagogische Fachkräfte
  aus Schule und Erwachsenenbildung zu genderbezogener Diskriminierung und 
 Homophobie
DTSTART:20081019T000000
DTEND:20081024T000000
UID:2026-04-25-23-40-28-0-@calendar.boell.de
DTSTAMP:20260425T214028
DESCRIPTION:Externe Veranstaltung
END:VEVENT
END:VCALENDAR
