BEGIN:VCALENDAR
VERSION:2.0
PRODID:-//ZContent.net//ZapCalLib 1.0//EN
CALSCALE:GREGORIAN
METHOD:PUBLISH
BEGIN:VEVENT
SUMMARY:Sitzungen und Diskussionen effektiv leiten
DTSTART:20081107T100000
DTEND:20081108T180000
UID:2026-04-25-02-12-44-0-@calendar.boell.de
DTSTAMP:20260425T001244
DESCRIPTION:Landesstiftung Brandenburg
END:VEVENT
END:VCALENDAR
