BEGIN:VCALENDAR
VERSION:2.0
PRODID:-//ZContent.net//ZapCalLib 1.0//EN
CALSCALE:GREGORIAN
METHOD:PUBLISH
BEGIN:VEVENT
SUMMARY:NGOs in der Transparenzkrise? | Kommunikation in stürmischen Zeite
 n
DTSTART:20080626T180000
DTEND:20080626T200000
UID:2026-04-25-05-00-17-0-@calendar.boell.de
DTSTAMP:20260425T030017
DESCRIPTION:Heinrich-Böll-Stiftung - Bundesstiftung Berlin
END:VEVENT
END:VCALENDAR
