BEGIN:VCALENDAR
VERSION:2.0
PRODID:-//ZContent.net//ZapCalLib 1.0//EN
CALSCALE:GREGORIAN
METHOD:PUBLISH
BEGIN:VEVENT
SUMMARY:Presentation of a Feasibility Study on the Creation of a ‘Europea
 n Community for Renewable Energy (ERENE)’
DTSTART:20080624T090000
DTEND:20080624T110000
UID:2026-04-26-04-41-10-0-@calendar.boell.de
DTSTAMP:20260426T024110
DESCRIPTION:
END:VEVENT
END:VCALENDAR
