BEGIN:VCALENDAR
VERSION:2.0
PRODID:-//ZContent.net//ZapCalLib 1.0//EN
CALSCALE:GREGORIAN
METHOD:PUBLISH
BEGIN:VEVENT
SUMMARY:Sonne, Wind und Wir! | Globalisierung fair gestalten - Heiligendamm
  +1
DTSTART:20080606T203000
DTEND:20080606T000000
UID:2026-04-25-02-12-43-0-@calendar.boell.de
DTSTAMP:20260425T001243
DESCRIPTION:Landesstiftung Mecklenburg-Vorpommern
END:VEVENT
END:VCALENDAR
