BEGIN:VCALENDAR
VERSION:2.0
PRODID:-//ZContent.net//ZapCalLib 1.0//EN
CALSCALE:GREGORIAN
METHOD:PUBLISH
BEGIN:VEVENT
SUMMARY:Von der Katastrophenhilfe zum Wiederaufbau | Lessons-learned nach d
 em Tsunami
DTSTART:20080630T100000
DTEND:20080630T163000
UID:2026-04-25-23-39-37-0-@calendar.boell.de
DTSTAMP:20260425T213937
DESCRIPTION:Heinrich-Böll-Stiftung - Bundesstiftung Berlin
END:VEVENT
END:VCALENDAR
