BEGIN:VCALENDAR
VERSION:2.0
PRODID:-//ZContent.net//ZapCalLib 1.0//EN
CALSCALE:GREGORIAN
METHOD:PUBLISH
BEGIN:VEVENT
SUMMARY:Sonne, Wind & Wir: Klimaschutz mit allen Sinnen | Klimatour 2008
DTSTART:20080712T150000
DTEND:20080712T220000
UID:2026-04-25-01-52-09-0-@calendar.boell.de
DTSTAMP:20260424T235209
DESCRIPTION:Landesstiftung Brandenburg
END:VEVENT
END:VCALENDAR
