BEGIN:VCALENDAR
VERSION:2.0
PRODID:-//ZContent.net//ZapCalLib 1.0//EN
CALSCALE:GREGORIAN
METHOD:PUBLISH
BEGIN:VEVENT
SUMMARY:Neue Strukturen für Klimaschutz, Arbeitsplätze und Versorgungssic
 herheit
DTSTART:20080803T200000
DTEND:20080804T000000
UID:2026-04-25-12-35-57-0-@calendar.boell.de
DTSTAMP:20260425T103557
DESCRIPTION:Landesstiftung Saar
END:VEVENT
END:VCALENDAR
