BEGIN:VCALENDAR
VERSION:2.0
PRODID:-//ZContent.net//ZapCalLib 1.0//EN
CALSCALE:GREGORIAN
METHOD:PUBLISH
BEGIN:VEVENT
SUMMARY:Sonne, Wind & Wir in München!
DTSTART:20080905T150000
DTEND:20080905T000000
UID:2026-04-24-23-51-44-0-@calendar.boell.de
DTSTAMP:20260424T215144
DESCRIPTION:Petra-Kelly-Stiftung
END:VEVENT
END:VCALENDAR
