BEGIN:VCALENDAR
VERSION:2.0
PRODID:-//ZContent.net//ZapCalLib 1.0//EN
CALSCALE:GREGORIAN
METHOD:PUBLISH
BEGIN:VEVENT
SUMMARY:Frauenkongress: Weiter geht's! Feminismus für die neue Zeit
DTSTART:20080704T150000
DTEND:20080705T160000
UID:2026-04-25-14-04-18-0-@calendar.boell.de
DTSTAMP:20260425T120418
DESCRIPTION:
END:VEVENT
END:VCALENDAR
