BEGIN:VCALENDAR
VERSION:2.0
PRODID:-//ZContent.net//ZapCalLib 1.0//EN
CALSCALE:GREGORIAN
METHOD:PUBLISH
BEGIN:VEVENT
SUMMARY:Modelle der Hochschulfinanzierung | Auswege aus der Unterfinanzieru
 ng
DTSTART:20080716T120000
DTEND:20080716T180000
UID:2026-04-25-05-49-09-0-@calendar.boell.de
DTSTAMP:20260425T034909
DESCRIPTION:Heinrich-Böll-Stiftung - Bundesstiftung Berlin
END:VEVENT
END:VCALENDAR
