BEGIN:VCALENDAR
VERSION:2.0
PRODID:-//ZContent.net//ZapCalLib 1.0//EN
CALSCALE:GREGORIAN
METHOD:PUBLISH
BEGIN:VEVENT
SUMMARY:Traumschiff Politik | Heinrich-Böll-Stiftung und Neuköllner Oper 
 laden zum musikalisch-theatralischen Sondergipfel
DTSTART:20080914T150000
DTEND:20080914T200000
UID:2026-04-25-04-09-59-0-@calendar.boell.de
DTSTAMP:20260425T020959
DESCRIPTION:Heinrich-Böll-Stiftung - Bundesstiftung Berlin
END:VEVENT
END:VCALENDAR
