BEGIN:VCALENDAR
VERSION:2.0
PRODID:-//ZContent.net//ZapCalLib 1.0//EN
CALSCALE:GREGORIAN
METHOD:PUBLISH
BEGIN:VEVENT
SUMMARY:25 Jahre Stiftung Leben und Umwelt | Empfang
DTSTART:20080904T160000
DTEND:20080904T000000
UID:2026-04-24-11-48-10-0-@calendar.boell.de
DTSTAMP:20260424T094810
DESCRIPTION:Stiftung Leben & Umwelt / Heinrich-Böll-Stiftung Niedersachsen
END:VEVENT
END:VCALENDAR
