BEGIN:VCALENDAR
VERSION:2.0
PRODID:-//ZContent.net//ZapCalLib 1.0//EN
CALSCALE:GREGORIAN
METHOD:PUBLISH
BEGIN:VEVENT
SUMMARY:Außenpolitische Jahrestagung 2008 | Werte und Interessen in der Au
 ßenpolitik 
DTSTART:20080911T000000
DTEND:20080712T130000
UID:2026-04-24-13-58-08-0-@calendar.boell.de
DTSTAMP:20260424T115808
DESCRIPTION:Heinrich-Böll-Stiftung - Bundesstiftung Berlin
END:VEVENT
END:VCALENDAR
