BEGIN:VCALENDAR
VERSION:2.0
PRODID:-//ZContent.net//ZapCalLib 1.0//EN
CALSCALE:GREGORIAN
METHOD:PUBLISH
BEGIN:VEVENT
SUMMARY:Annual Foreign Policy Conference 2008 | Values and Interests in For
 eign Policy
DTSTART:20080911T160000
DTEND:20080912T163000
UID:2026-04-25-05-00-21-0-@calendar.boell.de
DTSTAMP:20260425T030021
DESCRIPTION:Heinrich-Böll-Stiftung - Bundesstiftung Berlin
END:VEVENT
END:VCALENDAR
