BEGIN:VCALENDAR
VERSION:2.0
PRODID:-//ZContent.net//ZapCalLib 1.0//EN
CALSCALE:GREGORIAN
METHOD:PUBLISH
BEGIN:VEVENT
SUMMARY:European Governance of Migration  | The Political Management of Mob
 ility, Economy & Security 
DTSTART:20080917T170000
DTEND:20080919T160000
UID:2026-04-24-08-46-09-0-@calendar.boell.de
DTSTAMP:20260424T064609
DESCRIPTION:Heinrich-Böll-Stiftung - Bundesstiftung Berlin
END:VEVENT
END:VCALENDAR
