BEGIN:VCALENDAR
VERSION:2.0
PRODID:-//ZContent.net//ZapCalLib 1.0//EN
CALSCALE:GREGORIAN
METHOD:PUBLISH
BEGIN:VEVENT
SUMMARY:Öffentliche Ringvorlesung: Geschlecht in Wissenskulturen
DTSTART:20081029T181500
DTEND:20090211T200000
UID:2026-04-25-04-59-48-0-@calendar.boell.de
DTSTAMP:20260425T025948
DESCRIPTION:
END:VEVENT
END:VCALENDAR
