BEGIN:VCALENDAR
VERSION:2.0
PRODID:-//ZContent.net//ZapCalLib 1.0//EN
CALSCALE:GREGORIAN
METHOD:PUBLISH
BEGIN:VEVENT
SUMMARY:Mittwochsgesellschaft mit Till Spannagel
DTSTART:20081126T193000
DTEND:20081126T220000
UID:2026-04-24-08-46-31-0-@calendar.boell.de
DTSTAMP:20260424T064631
DESCRIPTION:Landesstiftung Brandenburg
END:VEVENT
END:VCALENDAR
