BEGIN:VCALENDAR
VERSION:2.0
PRODID:-//ZContent.net//ZapCalLib 1.0//EN
CALSCALE:GREGORIAN
METHOD:PUBLISH
BEGIN:VEVENT
SUMMARY:Grabsteine aus Kinderhand? 
DTSTART:20080829T200000
DTEND:20080829T220000
UID:2026-04-25-23-41-32-0-@calendar.boell.de
DTSTAMP:20260425T214132
DESCRIPTION:Stiftung Leben & Umwelt / Heinrich-Böll-Stiftung Niedersachsen
END:VEVENT
END:VCALENDAR
