BEGIN:VCALENDAR
VERSION:2.0
PRODID:-//ZContent.net//ZapCalLib 1.0//EN
CALSCALE:GREGORIAN
METHOD:PUBLISH
BEGIN:VEVENT
SUMMARY:Parteirat von Bündnis 90/Die Grünen
DTSTART:20080915T104500
DTEND:20080915T124500
UID:2026-04-25-13-07-49-0-@calendar.boell.de
DTSTAMP:20260425T110749
DESCRIPTION:
END:VEVENT
END:VCALENDAR
