BEGIN:VCALENDAR
VERSION:2.0
PRODID:-//ZContent.net//ZapCalLib 1.0//EN
CALSCALE:GREGORIAN
METHOD:PUBLISH
BEGIN:VEVENT
SUMMARY:RLS: Briefwechsel mit Zeitgenossen | Lesung mit Elfriede Büning
DTSTART:20080827T190000
DTEND:20080827T210000
UID:2026-04-25-01-35-52-0-@calendar.boell.de
DTSTAMP:20260424T233552
DESCRIPTION:
END:VEVENT
END:VCALENDAR
