BEGIN:VCALENDAR
VERSION:2.0
PRODID:-//ZContent.net//ZapCalLib 1.0//EN
CALSCALE:GREGORIAN
METHOD:PUBLISH
BEGIN:VEVENT
SUMMARY:RLS: Der Staat heute, die Krise des Neoliberalismus und die Staatsd
 ebatte der Linken | Workshop der Rosa Luxemburg Stiftung
DTSTART:20080906T100000
DTEND:20080906T180000
UID:2026-04-25-03-30-37-0-@calendar.boell.de
DTSTAMP:20260425T013037
DESCRIPTION:
END:VEVENT
END:VCALENDAR
