BEGIN:VCALENDAR
VERSION:2.0
PRODID:-//ZContent.net//ZapCalLib 1.0//EN
CALSCALE:GREGORIAN
METHOD:PUBLISH
BEGIN:VEVENT
SUMMARY:RLS: Republik ist schon viel. Sozialismus bleibt das Ziel | Worksho
 p der Rosa Luxemburg Stiftung
DTSTART:20080910T110000
DTEND:20080910T150000
UID:2026-04-25-12-35-44-0-@calendar.boell.de
DTSTAMP:20260425T103544
DESCRIPTION:
END:VEVENT
END:VCALENDAR
