BEGIN:VCALENDAR
VERSION:2.0
PRODID:-//ZContent.net//ZapCalLib 1.0//EN
CALSCALE:GREGORIAN
METHOD:PUBLISH
BEGIN:VEVENT
SUMMARY:KAS: I. Europakonferenz der Konrad-Adenauer-Stiftung | Zukunft der 
 Erinnerung
DTSTART:20080912T100000
DTEND:20080914T200000
UID:2026-04-24-21-12-31-0-@calendar.boell.de
DTSTAMP:20260424T191231
DESCRIPTION:
END:VEVENT
END:VCALENDAR
