BEGIN:VCALENDAR
VERSION:2.0
PRODID:-//ZContent.net//ZapCalLib 1.0//EN
CALSCALE:GREGORIAN
METHOD:PUBLISH
BEGIN:VEVENT
SUMMARY:Peter Barnes: Lesereise Kapitalismus 3.0 / Lecture: Capitalism 3.0 
 | Kapitalismus 3.0 - Die neue Version / Capitalism 3.0 - The New Version
DTSTART:20081018T180000
DTEND:20081018T200000
UID:2026-04-24-19-10-22-0-@calendar.boell.de
DTSTAMP:20260424T171022
DESCRIPTION:Heinrich-Böll-Stiftung - Bundesstiftung Berlin
END:VEVENT
END:VCALENDAR
