BEGIN:VCALENDAR
VERSION:2.0
PRODID:-//ZContent.net//ZapCalLib 1.0//EN
CALSCALE:GREGORIAN
METHOD:PUBLISH
BEGIN:VEVENT
SUMMARY:Grüner Salon - Grüne Debatte | 1968 ist noch nicht erledigt
DTSTART:20080914T110000
DTEND:20080914T150000
UID:2026-04-25-05-49-56-0-@calendar.boell.de
DTSTAMP:20260425T034956
DESCRIPTION:Landesstiftung Nordrhein-Westfalen
END:VEVENT
END:VCALENDAR
