BEGIN:VCALENDAR
VERSION:2.0
PRODID:-//ZContent.net//ZapCalLib 1.0//EN
CALSCALE:GREGORIAN
METHOD:PUBLISH
BEGIN:VEVENT
SUMMARY:Jahrestagung UnternehmensGrün
DTSTART:20081115T100000
DTEND:20081115T173000
UID:2026-04-25-05-00-00-0-@calendar.boell.de
DTSTAMP:20260425T030000
DESCRIPTION:Externe Veranstaltung
END:VEVENT
END:VCALENDAR
