BEGIN:VCALENDAR
VERSION:2.0
PRODID:-//ZContent.net//ZapCalLib 1.0//EN
CALSCALE:GREGORIAN
METHOD:PUBLISH
BEGIN:VEVENT
SUMMARY:Gestaltungsmacht – Querdenkerinnen formen Gesellschaft: Auftritte
  und Abgänge auf der gesellschaftlichen Bühne | Block II
DTSTART:20090116T093000
DTEND:20090116T170000
UID:2026-04-24-04-35-05-0-@calendar.boell.de
DTSTAMP:20260424T023505
DESCRIPTION:Externe Veranstaltung
END:VEVENT
END:VCALENDAR
