BEGIN:VCALENDAR
VERSION:2.0
PRODID:-//ZContent.net//ZapCalLib 1.0//EN
CALSCALE:GREGORIAN
METHOD:PUBLISH
BEGIN:VEVENT
SUMMARY:Podiumsdiskussion: China heute
DTSTART:20081124T190000
DTEND:20081124T000000
UID:2026-04-25-06-19-59-0-@calendar.boell.de
DTSTAMP:20260425T041959
DESCRIPTION:Heinrich-Böll-Stiftung - Bundesstiftung Berlin
END:VEVENT
END:VCALENDAR
