BEGIN:VCALENDAR
VERSION:2.0
PRODID:-//ZContent.net//ZapCalLib 1.0//EN
CALSCALE:GREGORIAN
METHOD:PUBLISH
BEGIN:VEVENT
SUMMARY:Team & Subjects | Über Autorschaft in Künstlergruppen
DTSTART:20080916T200000
DTEND:20080916T220000
UID:2026-04-24-14-16-57-0-@calendar.boell.de
DTSTAMP:20260424T121657
DESCRIPTION:Heinrich-Böll-Stiftung - Bundesstiftung Berlin
END:VEVENT
END:VCALENDAR
