BEGIN:VCALENDAR
VERSION:2.0
PRODID:-//ZContent.net//ZapCalLib 1.0//EN
CALSCALE:GREGORIAN
METHOD:PUBLISH
BEGIN:VEVENT
SUMMARY:Wechselstrom – Autorinnen aus arabischen Ländern auf Tournee | L
 esung und Diskussion
DTSTART:20081007T200000
DTEND:20081007T000000
UID:2026-04-24-08-46-25-0-@calendar.boell.de
DTSTAMP:20260424T064625
DESCRIPTION:Heinrich-Böll-Stiftung - Bundesstiftung Berlin
END:VEVENT
END:VCALENDAR
