BEGIN:VCALENDAR
VERSION:2.0
PRODID:-//ZContent.net//ZapCalLib 1.0//EN
CALSCALE:GREGORIAN
METHOD:PUBLISH
BEGIN:VEVENT
SUMMARY:Fanatischer Schurkenstaat oder rationaler Machtstratege - Irans Rol
 le im Nahostkonflikt  | Nahost-Seminar
DTSTART:20081031T180000
DTEND:20081102T130000
UID:2026-04-24-21-47-20-0-@calendar.boell.de
DTSTAMP:20260424T194720
DESCRIPTION:Heinrich-Böll-Stiftung - Bundesstiftung Berlin
END:VEVENT
END:VCALENDAR
