BEGIN:VCALENDAR
VERSION:2.0
PRODID:-//ZContent.net//ZapCalLib 1.0//EN
CALSCALE:GREGORIAN
METHOD:PUBLISH
BEGIN:VEVENT
SUMMARY:Potenziale Ost #6: Akteure & Allianzen für Ostdeutschland | Perspe
 ktiven für eine selbsttragende Entwicklung
DTSTART:20081001T180000
DTEND:20081001T220000
UID:2026-04-24-12-27-16-0-@calendar.boell.de
DTSTAMP:20260424T102716
DESCRIPTION:Heinrich-Böll-Stiftung - Bundesstiftung Berlin
END:VEVENT
END:VCALENDAR
