BEGIN:VCALENDAR
VERSION:2.0
PRODID:-//ZContent.net//ZapCalLib 1.0//EN
CALSCALE:GREGORIAN
METHOD:PUBLISH
BEGIN:VEVENT
SUMMARY:Neue Stichworte zur geistigen Situation der Zeit #8: Gerechtigkeit 
 | Was heißt Gerechtigkeit heute?
DTSTART:20081016T200000
DTEND:20081016T220000
UID:2026-04-25-04-59-46-0-@calendar.boell.de
DTSTAMP:20260425T025946
DESCRIPTION:Heinrich-Böll-Stiftung - Bundesstiftung Berlin
END:VEVENT
END:VCALENDAR
