BEGIN:VCALENDAR
VERSION:2.0
PRODID:-//ZContent.net//ZapCalLib 1.0//EN
CALSCALE:GREGORIAN
METHOD:PUBLISH
BEGIN:VEVENT
SUMMARY:Interkulturalität und Politik #7: Integration zwecklos? | Migranti
 sche Eliten in Deutschland
DTSTART:20081020T190000
DTEND:20081020T210000
UID:2026-04-24-12-27-21-0-@calendar.boell.de
DTSTAMP:20260424T102721
DESCRIPTION:Heinrich-Böll-Stiftung - Bundesstiftung Berlin
END:VEVENT
END:VCALENDAR
