BEGIN:VCALENDAR
VERSION:2.0
PRODID:-//ZContent.net//ZapCalLib 1.0//EN
CALSCALE:GREGORIAN
METHOD:PUBLISH
BEGIN:VEVENT
SUMMARY:Zeitgeschichte im Gespräch #20: Nationen und ihre Selbstbilder | A
 chtung: Veranstaltung fällt aus!
DTSTART:20081204T193000
DTEND:20081204T220000
UID:2026-04-23-22-29-31-0-@calendar.boell.de
DTSTAMP:20260423T202931
DESCRIPTION:Heinrich-Böll-Stiftung - Bundesstiftung Berlin
END:VEVENT
END:VCALENDAR
