BEGIN:VCALENDAR
VERSION:2.0
PRODID:-//ZContent.net//ZapCalLib 1.0//EN
CALSCALE:GREGORIAN
METHOD:PUBLISH
BEGIN:VEVENT
SUMMARY:Wohlfahrtsstaaten in Europa: Abgucken erwünscht! | Verbessern durc
 h Vergleichen und Lernen
DTSTART:20081024T153000
DTEND:20081025T173000
UID:2026-04-25-04-12-57-0-@calendar.boell.de
DTSTAMP:20260425T021257
DESCRIPTION:Heinrich-Böll-Stiftung - Bundesstiftung Berlin
END:VEVENT
END:VCALENDAR
